BEGIN:VCALENDAR
VERSION:2.0
PRODID:-//hacksw/handcal//NONSGML v1.0//EN
BEGIN:VEVENT
SUMMARY:U11A
UID:393a2b5e-f19f-4faa-a265-28c7a3de819d
DTSTART:20260412T123000Z
DTEND:20260412T140000Z
LOCATION:Localisation Gymnase M. UTRILLO  
CATEGORIES:Sportif
STATUS:
URL;VALUE=URI:https://www.bcfmm.com/evenements/2026/04/12/u11a-2388271
END:VEVENT
END:VCALENDAR
