BEGIN:VCALENDAR
VERSION:2.0
PRODID:-//hacksw/handcal//NONSGML v1.0//EN
BEGIN:VEVENT
SUMMARY:U15A
UID:fabd53e9-d80f-45e2-ab90-d66131ae2ea5
DTSTART:20260412T133000Z
DTEND:20260412T150000Z
LOCATION:Localisation Gymnase H. MICHEL  
CATEGORIES:Sportif
STATUS:
URL;VALUE=URI:https://www.bcfmm.com/evenements/2026/04/12/u15a-2374180
END:VEVENT
END:VCALENDAR
