BEGIN:VCALENDAR
VERSION:2.0
PRODID:-//hacksw/handcal//NONSGML v1.0//EN
BEGIN:VEVENT
SUMMARY:U18A
UID:efc85b1c-e0b6-433b-ad8d-2300aa250820
DTSTART:20260412T133000Z
DTEND:20260412T150000Z
LOCATION:Localisation Complexe MARADAS - Salle 1  
CATEGORIES:Sportif
STATUS:
URL;VALUE=URI:https://www.bcfmm.com/evenements/2026/04/12/u18a-2374149
END:VEVENT
END:VCALENDAR
